BEGIN:VCALENDAR
METHOD:PUBLISH
VERSION:2.0
PRODID:-//Eventilla iCal Syndication//NONSGML Liana//EN
BEGIN:VEVENT
UID:vNQO9@eventilla.com
DTSTAMP:20260507T050000Z
DTSTART:20260507T050000Z
DTEND:20260507T070000Z
SUMMARY:Alkusammutuskoulutus AS1
DESCRIPTION:Alkusammutuskoulutus AS1\nAlkusammutuskoulutus AS1 (2h) toteutetaan kansallisen alkusammutuskonseptin mukaisesti. Koulutukseen osallistunut saa Suomen Palopäällystöliiton ja Suomen Pelastusalan Keskusjärjestön (SPEK) myöntämän alkusammutuskortin\, joka on voimassa viisi vuotta.\nKoulutuksen tavoite\nTavoitteena on\, että koulutettavat osaavat tunnistaa ympäristön riskejä ja ymmärtävät alkusammutustaitojen merkityksen tulipalotilanteessa.\nHarjoituksen jälkeen koulutetut henkilöt osaavat käyttää turvallisesti vähintään sammutuspeitettä ja käsisammutinta.\n \nKoulutuksen sisältö:\nTeoriaosuus\, 1 h- Tulipalon ominaisuudet -  Alkusammutuksen merkitys- Toiminta tulipalotilanteessa- Erilaisten palojen sammuttaminen alkusammutusvälineillä\nKäytännön harjoittelu\, 1 h- Käsisammuttimen käyttö- Sammutuspeitteen käyttö\nKoulutuksen kesto on kaksi tuntia ryhmälle\, max. 15 koulutettavaa. Koulutuksen hyväksytysti suorittanut saa Alkusammutuskortin (AS1).
LOCATION:REDU Lapin koulutuskeskus, Kittilä\, Valtatie 82\, 99100\,
 Kittilä\, Suomi
URL:http://koulutukset.varmanatoihin.fi/event/vNQO9
END:VEVENT
END:VCALENDAR
