BEGIN:VCALENDAR
METHOD:PUBLISH
VERSION:2.0
PRODID:-//Eventilla iCal Syndication//NONSGML Liana//EN
BEGIN:VEVENT
UID:aoRJ6@eventilla.com
DTSTAMP:20260505T050000Z
DTSTART:20260505T050000Z
DTEND:20260505T120000Z
SUMMARY:Työturvallisuuskortti® -koulutus + kuljettajan ammattipätevyyspäivä
DESCRIPTION:Työturvallisuuskortti® -koulutus  + kuljettajan ammattipätevyyspäivä\nKaikille\, jotka tarvitsevat Työturvallisuuskeskuksen hallinnoiman Työturvallisuuskortin®. Koulutuksesta on mahdollisuus saada kuorma- ja linja-autonkuljettajan ammattipätevyyteen liittyvä ammattipätevyysmerkintä.\nKoulutuksessa opitaan tunnistamaan työympäristön vaaroja ja miten työsuojelu toimii yhteisellä työpaikalla\, omat sekä yhteisellä työpaikalla toimivien osapuolten roolit ja vastuut. Koulutus ohjaa tunnistamaan ja arvioimaan ennakoivasti työturvallisuuteen liittyviä riskejä sekä kuormitustekijoitä ja siten ennaltaehkäisee vahinkojen syntymistä. Osallistuja saa työturvallisuuskokeen hyväksyttävästi suoritettuaan Työturvallisuuskortin®\, joka on voimassa viisi vuotta.\nKoulutus parantaa käytännön yhteistoimintaa yhteisillä työpaikoilla työn tilaajan ja sen tekijöiden välillä: antaa valmiudet laadukkaaseen perehdyttämiseen\, antaa perustietoa työsuojelusta\, vähentää teollisuuden tapaturmia yleensä ja siten myös riskialttiissa töissä sattuvia vakavia tapaturmia.\n \nTavoitteena\, että osallistuja tuntee\n* Nolla tapaturmaa -periaatteen\n* työturvallisuusvastuut\n* yhteisen työpaikan määritelmän ja toimijoiden roolit\n* tunnistaa yhteisen työpaikan kuormitustekijöitä\n* tunnistaa yhteisen työpaikan vaaroja\n \nLisätietoa aiheesta: www.tyoturvallisuuskortti.fi.\n 
LOCATION:REDU Lapin koulutuskeskus, Kittilä\, Valtatie 82\, 99100\,
 Kittilä\, Suomi
URL:http://koulutukset.varmanatoihin.fi/event/aoRJ6
END:VEVENT
END:VCALENDAR
