BEGIN:VCALENDAR
METHOD:PUBLISH
VERSION:2.0
PRODID:-//Eventilla iCal Syndication//NONSGML Liana//EN
BEGIN:VEVENT
UID:5dz0L@eventilla.com
DTSTAMP:20260506T050000Z
DTSTART:20260506T050000Z
DTEND:20260506T130000Z
SUMMARY:Matkailualan turvallisuuspassikoulutus
DESCRIPTION:Matkailualan turvallisuuspassikoulutus\nMatkailualan turvallisuuspassi on tarkoitettu kaikille matkailualan\, majoitus- ja ravitsemisalan\, ohjelmapalvelualan\, liikunta- ja ulkoilupalveluiden\, festivaalien\, elämyspuistojen ja tapahtumien parissa toimiville työntekijöille.\nKoulutus antaa työntekijöille perustiedot matkailun turvallisuusasioista ja innostaa omien turvallisuustaitojen kehittämiseen. Koulutuksen tavoitteena on asiakasturvallisuuden lisääminen\, onnettomuuksien ennaltaehkäiseminen ja matkailutuotteiden laadun parantaminen.\nMatkailualan turvallisuuspassikoulutus on päivän kestävä turvallisuuskoulutus. Koulutus toteutetaan suomen kielellä.\nHaasteena erilaiset olosuhteet\nMatkailualan työt ovat usein kausiluonteisia ja monimuotoisia. Erilaiset asiakasryhmät\, vaihtelevat toimintaympäristöt ja -olosuhteet luovat haasteensa toiminnan turvallisuudelle.Turvallisuusasioihin perehtyneellä työntekijällä on paremmat valmiudet toimia matkailualan arjen toisinaan haastavissa tilanteissa\, asiakasturvallisuuden etulinjassa.\n \nKoulutuksen sisältö\n* turvallisuuden merkitys matkailussa* matkailun turvallisuuden erityispiirteet* lait ja säännöt* omatoiminen riskienhallinta* eri toimialojen riskit* toiminta hätätilanteessa\nViisi vuotta voimassa olevan matkailualan turvallisuuspassin saa opiskelija\, joka on osallistunut päivän kestävään Matupa-koulutukseen ja läpäissyt testin.
LOCATION:REDU Lapin koulutuskeskus, Kittilä\, Valtatie 82\, 99100\,
 Kittilä\, Suomi
URL:http://koulutukset.varmanatoihin.fi/event/5dz0L
END:VEVENT
END:VCALENDAR
