BEGIN:VCALENDAR
METHOD:PUBLISH
VERSION:2.0
PRODID:-//Eventilla iCal Syndication//NONSGML Liana//EN
BEGIN:VEVENT
UID:0gDrO@eventilla.com
DTSTAMP:20260504T050000Z
DTSTART:20260504T050000Z
DTEND:20260504T130000Z
SUMMARY:Tulityökortti® -koulutus
DESCRIPTION:Tulityökortti® -koulutus\nTulityökortti® -koulutus ehkäisee tulityöonnettomuuksia työpaikoilla ja on tarkoitettu kaikille\, jotka tekevät\, vartioivat\, johtavat tai valvovat tulitöitä.\nTulityökortti® -koulutuksen tavoitteena on\, että tulityöntekijä tietää ja tuntee tulitöiden vaarat sekä tulitöihin liittyvän ohjeistuksen ja lupakäytännön. Lisäksi tulityöntekijä osaa asennoitua tulitöiden vaaroihin oikein\, tehdä tarvittavat tulitöiden turvatoimenpiteet sekä hallitsee alkusammutuksen.\nKoulutuksen sisältö\nTulityökortin® saaminen edellyttää tulitöiden turvallisuuskoulutuksen ja koulutukseen liittyvän kokeen suorittamista. Koulutuksessa käydään läpi:\n* keskeisen\, ohjaavan lainsäädännön ja ohjeistuksen osapuolten vastuut* tulityön riskit* tulityöluvan merkitys* työn turvallinen tekeminen* hätätilanteissa toimiminen ja alkusammutusvälineiden käyttö\nHyväksyttävästi tulityökoulutuksen suorittanut saa Tulityökortin®\, joka on voimassa 5 vuotta. Lisätietoja www.spek.fi. 
LOCATION:REDU Lapin koulutuskeskus, Kittilä\, Valtatie 82\, 99100\,
 Kittilä\, Suomi
URL:http://koulutukset.varmanatoihin.fi/event/0gDrO
END:VEVENT
END:VCALENDAR
